BEGIN:VCALENDAR
VERSION:2.0
PRODID:-//Silver Bay YMCA - ECPv6.15.17//NONSGML v1.0//EN
CALSCALE:GREGORIAN
METHOD:PUBLISH
X-WR-CALNAME:Silver Bay YMCA
X-ORIGINAL-URL:https://silverbay.org
X-WR-CALDESC:Events for Silver Bay YMCA
REFRESH-INTERVAL;VALUE=DURATION:PT1H
X-Robots-Tag:noindex
X-PUBLISHED-TTL:PT1H
BEGIN:VTIMEZONE
TZID:America/New_York
BEGIN:DAYLIGHT
TZOFFSETFROM:-0500
TZOFFSETTO:-0400
TZNAME:EDT
DTSTART:20240310T070000
END:DAYLIGHT
BEGIN:STANDARD
TZOFFSETFROM:-0400
TZOFFSETTO:-0500
TZNAME:EST
DTSTART:20241103T060000
END:STANDARD
BEGIN:DAYLIGHT
TZOFFSETFROM:-0500
TZOFFSETTO:-0400
TZNAME:EDT
DTSTART:20250309T070000
END:DAYLIGHT
BEGIN:STANDARD
TZOFFSETFROM:-0400
TZOFFSETTO:-0500
TZNAME:EST
DTSTART:20251102T060000
END:STANDARD
BEGIN:DAYLIGHT
TZOFFSETFROM:-0500
TZOFFSETTO:-0400
TZNAME:EDT
DTSTART:20260308T070000
END:DAYLIGHT
BEGIN:STANDARD
TZOFFSETFROM:-0400
TZOFFSETTO:-0500
TZNAME:EST
DTSTART:20261101T060000
END:STANDARD
END:VTIMEZONE
BEGIN:VEVENT
DTSTART;TZID=America/New_York:20251105T060000
DTEND;TZID=America/New_York:20251105T210000
DTSTAMP:20260424T042307
CREATED:20251103T215634Z
LAST-MODIFIED:20251104T220328Z
UID:10002823-1762322400-1762376400@silverbay.org
SUMMARY:Fitness Center
DESCRIPTION:
URL:https://silverbay.org/event/fitness-center-3/
LOCATION:Fisher Gym
END:VEVENT
BEGIN:VEVENT
DTSTART;TZID=America/New_York:20251105T080000
DTEND;TZID=America/New_York:20251105T230000
DTSTAMP:20260424T042307
CREATED:20251103T215620Z
LAST-MODIFIED:20251104T220328Z
UID:10002822-1762329600-1762383600@silverbay.org
SUMMARY:Library Open Hours
DESCRIPTION:
URL:https://silverbay.org/event/library-open-hours-3/
LOCATION:George & Kay Berry Library
END:VEVENT
BEGIN:VEVENT
DTSTART;TZID=America/New_York:20251105T093000
DTEND;TZID=America/New_York:20251105T120000
DTSTAMP:20260424T042307
CREATED:20251103T215620Z
LAST-MODIFIED:20251104T220328Z
UID:10002821-1762335000-1762344000@silverbay.org
SUMMARY:Squire Studio Open
DESCRIPTION:
URL:https://silverbay.org/event/squire-studio-open-2/
LOCATION:Squire Studio\, 87 Silver Bay Road\, Silver Bay\, NY\, 12874\, United States
END:VEVENT
END:VCALENDAR