BEGIN:VCALENDAR
VERSION:2.0
PRODID:-//Silver Bay YMCA - ECPv6.15.17//NONSGML v1.0//EN
CALSCALE:GREGORIAN
METHOD:PUBLISH
X-WR-CALNAME:Silver Bay YMCA
X-ORIGINAL-URL:https://silverbay.org
X-WR-CALDESC:Events for Silver Bay YMCA
REFRESH-INTERVAL;VALUE=DURATION:PT1H
X-Robots-Tag:noindex
X-PUBLISHED-TTL:PT1H
BEGIN:VTIMEZONE
TZID:America/New_York
BEGIN:DAYLIGHT
TZOFFSETFROM:-0500
TZOFFSETTO:-0400
TZNAME:EDT
DTSTART:20240310T070000
END:DAYLIGHT
BEGIN:STANDARD
TZOFFSETFROM:-0400
TZOFFSETTO:-0500
TZNAME:EST
DTSTART:20241103T060000
END:STANDARD
BEGIN:DAYLIGHT
TZOFFSETFROM:-0500
TZOFFSETTO:-0400
TZNAME:EDT
DTSTART:20250309T070000
END:DAYLIGHT
BEGIN:STANDARD
TZOFFSETFROM:-0400
TZOFFSETTO:-0500
TZNAME:EST
DTSTART:20251102T060000
END:STANDARD
BEGIN:DAYLIGHT
TZOFFSETFROM:-0500
TZOFFSETTO:-0400
TZNAME:EDT
DTSTART:20260308T070000
END:DAYLIGHT
BEGIN:STANDARD
TZOFFSETFROM:-0400
TZOFFSETTO:-0500
TZNAME:EST
DTSTART:20261101T060000
END:STANDARD
END:VTIMEZONE
BEGIN:VEVENT
DTSTART;TZID=America/New_York:20251130T060000
DTEND;TZID=America/New_York:20251130T210000
DTSTAMP:20260424T121536
CREATED:20251103T215848Z
LAST-MODIFIED:20251130T224816Z
UID:10002914-1764482400-1764536400@silverbay.org
SUMMARY:Fitness Center
DESCRIPTION:
URL:https://silverbay.org/event/fitness-center-29/
LOCATION:Fisher Gym
END:VEVENT
BEGIN:VEVENT
DTSTART;TZID=America/New_York:20251130T080000
DTEND;TZID=America/New_York:20251130T230000
DTSTAMP:20260424T121536
CREATED:20251103T215848Z
LAST-MODIFIED:20251130T224815Z
UID:10002915-1764489600-1764543600@silverbay.org
SUMMARY:Library Open Hours
DESCRIPTION:
URL:https://silverbay.org/event/library-open-hours-28/
LOCATION:George & Kay Berry Library
END:VEVENT
BEGIN:VEVENT
DTSTART;TZID=America/New_York:20251130T130000
DTEND;TZID=America/New_York:20251130T140000
DTSTAMP:20260424T121536
CREATED:20251125T214904Z
LAST-MODIFIED:20251130T224816Z
UID:10003063-1764507600-1764511200@silverbay.org
SUMMARY:Indoor Archery
DESCRIPTION:Whether you’re an experienced shooter or an eager beginner\, archery offers a fun and engaging way to improve coordination\, focus\, and confidence. Challenge yourself\, develop new skills\, and enjoy some friendly competition!\nNew to archery? Our certified staff will teach you everything you need to know to have a safe\, fun\, and memorable experience. Take aim and discover your new passion!\nArchery is open to guests ages 6 and up.
URL:https://silverbay.org/event/indoor-archery/
LOCATION:Fisher Gym
END:VEVENT
BEGIN:VEVENT
DTSTART;TZID=America/New_York:20251130T143000
DTEND;TZID=America/New_York:20251130T160000
DTSTAMP:20260424T121536
CREATED:20251125T214904Z
LAST-MODIFIED:20251130T224816Z
UID:10003064-1764513000-1764518400@silverbay.org
SUMMARY:Climbing Wall Open Hours
DESCRIPTION:Ready to scale new heights? Our indoor 26-foot climbing wall offers the perfect adventure for thrill-seekers and beginners alike! Whether you’re new to climbing or an experienced rock enthusiast\, this wall provides a fun\, safe\, and challenging experience for all. With a variety of routes designed for different skill levels\, it’s an exciting way to test your strength\, agility\, and problem-solving skills.\nOur climbing wall is open to guests ages 6 and up\, making it a fantastic activity for families\, groups\, or anyone looking to try something new.\nCome push your limits\, build confidence\, and enjoy an unforgettable climb! The wall is waiting for you!
URL:https://silverbay.org/event/climbing-wall-open-hours-2/
LOCATION:Climbing Wall at Fisher Gym
END:VEVENT
END:VCALENDAR