BEGIN:VCALENDAR
VERSION:2.0
PRODID:-//Silver Bay YMCA - ECPv6.15.17//NONSGML v1.0//EN
CALSCALE:GREGORIAN
METHOD:PUBLISH
X-WR-CALNAME:Silver Bay YMCA
X-ORIGINAL-URL:https://silverbay.org
X-WR-CALDESC:Events for Silver Bay YMCA
REFRESH-INTERVAL;VALUE=DURATION:PT1H
X-Robots-Tag:noindex
X-PUBLISHED-TTL:PT1H
BEGIN:VTIMEZONE
TZID:America/New_York
BEGIN:DAYLIGHT
TZOFFSETFROM:-0500
TZOFFSETTO:-0400
TZNAME:EDT
DTSTART:20250309T070000
END:DAYLIGHT
BEGIN:STANDARD
TZOFFSETFROM:-0400
TZOFFSETTO:-0500
TZNAME:EST
DTSTART:20251102T060000
END:STANDARD
BEGIN:DAYLIGHT
TZOFFSETFROM:-0500
TZOFFSETTO:-0400
TZNAME:EDT
DTSTART:20260308T070000
END:DAYLIGHT
BEGIN:STANDARD
TZOFFSETFROM:-0400
TZOFFSETTO:-0500
TZNAME:EST
DTSTART:20261101T060000
END:STANDARD
BEGIN:DAYLIGHT
TZOFFSETFROM:-0500
TZOFFSETTO:-0400
TZNAME:EDT
DTSTART:20270314T070000
END:DAYLIGHT
BEGIN:STANDARD
TZOFFSETFROM:-0400
TZOFFSETTO:-0500
TZNAME:EST
DTSTART:20271107T060000
END:STANDARD
END:VTIMEZONE
BEGIN:VEVENT
DTSTART;TZID=America/New_York:20260506T160000
DTEND;TZID=America/New_York:20260506T170000
DTSTAMP:20260419T083007
CREATED:20260205T195632Z
LAST-MODIFIED:20260418T130624Z
UID:10003526-1778083200-1778086800@silverbay.org
SUMMARY:Evening Yoga
DESCRIPTION:Wrap up your day with a calming guided yoga session designed to help you unwind and relax.
URL:https://silverbay.org/event/evening-yoga-19/
LOCATION:Fisher Gym Dance Studio
END:VEVENT
BEGIN:VEVENT
DTSTART;TZID=America/New_York:20260507T140000
DTEND;TZID=America/New_York:20260507T150000
DTSTAMP:20260419T083007
CREATED:20260409T170640Z
LAST-MODIFIED:20260418T130636Z
UID:10004179-1778162400-1778166000@silverbay.org
SUMMARY:Moving for Better Balance
DESCRIPTION:Moving for Better Balance is a fall-prevention class\, inspired by and adapted from Tai Chi. Over the course of 12 weeks\, we will learn and practice 8 different movement patterns and a series of therapeutic exercises. Registration is required\, and can be completed on the first day (April 6th) of the class. Please contact program@silverbay.org for any questions or to confirm your attendance!
URL:https://silverbay.org/event/moving-for-better-balance-56/
LOCATION:Fisher Gym Dance Studio
END:VEVENT
BEGIN:VEVENT
DTSTART;TZID=America/New_York:20260507T150000
DTEND;TZID=America/New_York:20260507T160000
DTSTAMP:20260419T083007
CREATED:20260402T152101Z
LAST-MODIFIED:20260418T130636Z
UID:10004073-1778166000-1778169600@silverbay.org
SUMMARY:Moving for Better Balance
DESCRIPTION:Moving for Better Balance is a fall-prevention class\, inspired by and adapted from Tai Chi. Over the course of 12 weeks\, we will learn and practice 8 different movement patterns and a series of therapeutic exercises. Registration is required\, and can be completed on the first day (April 6th) of the class. Please contact program@silverbay.org for any questions or to confirm your attendance!
URL:https://silverbay.org/event/moving-for-better-balance-34/
LOCATION:Fisher Gym Dance Studio
END:VEVENT
BEGIN:VEVENT
DTSTART;TZID=America/New_York:20260511T140000
DTEND;TZID=America/New_York:20260511T150000
DTSTAMP:20260419T083007
CREATED:20260409T170654Z
LAST-MODIFIED:20260418T130649Z
UID:10004180-1778508000-1778511600@silverbay.org
SUMMARY:Moving for Better Balance
DESCRIPTION:Moving for Better Balance is a fall-prevention class\, inspired by and adapted from Tai Chi. Over the course of 12 weeks\, we will learn and practice 8 different movement patterns and a series of therapeutic exercises. Registration is required\, and can be completed on the first day (April 6th) of the class. Please contact program@silverbay.org for any questions or to confirm your attendance!
URL:https://silverbay.org/event/moving-for-better-balance-57/
LOCATION:Fisher Gym Dance Studio
END:VEVENT
BEGIN:VEVENT
DTSTART;TZID=America/New_York:20260511T150000
DTEND;TZID=America/New_York:20260511T160000
DTSTAMP:20260419T083007
CREATED:20260402T152128Z
LAST-MODIFIED:20260418T130649Z
UID:10004074-1778511600-1778515200@silverbay.org
SUMMARY:Moving for Better Balance
DESCRIPTION:Moving for Better Balance is a fall-prevention class\, inspired by and adapted from Tai Chi. Over the course of 12 weeks\, we will learn and practice 8 different movement patterns and a series of therapeutic exercises. Registration is required\, and can be completed on the first day (April 6th) of the class. Please contact program@silverbay.org for any questions or to confirm your attendance!
URL:https://silverbay.org/event/moving-for-better-balance-35/
LOCATION:Fisher Gym Dance Studio
END:VEVENT
BEGIN:VEVENT
DTSTART;TZID=America/New_York:20260513T160000
DTEND;TZID=America/New_York:20260513T170000
DTSTAMP:20260419T083007
CREATED:20260212T214019Z
LAST-MODIFIED:20260418T130715Z
UID:10003546-1778688000-1778691600@silverbay.org
SUMMARY:Evening Yoga
DESCRIPTION:Wrap up your day with a calming guided yoga session designed to help you unwind and relax.
URL:https://silverbay.org/event/evening-yoga-20/
LOCATION:Fisher Gym Dance Studio
END:VEVENT
BEGIN:VEVENT
DTSTART;TZID=America/New_York:20260514T140000
DTEND;TZID=America/New_York:20260514T150000
DTSTAMP:20260419T083007
CREATED:20260409T170721Z
LAST-MODIFIED:20260418T130715Z
UID:10004181-1778767200-1778770800@silverbay.org
SUMMARY:Moving for Better Balance
DESCRIPTION:Moving for Better Balance is a fall-prevention class\, inspired by and adapted from Tai Chi. Over the course of 12 weeks\, we will learn and practice 8 different movement patterns and a series of therapeutic exercises. Registration is required\, and can be completed on the first day (April 6th) of the class. Please contact program@silverbay.org for any questions or to confirm your attendance!
URL:https://silverbay.org/event/moving-for-better-balance-58/
LOCATION:Fisher Gym Dance Studio
END:VEVENT
BEGIN:VEVENT
DTSTART;TZID=America/New_York:20260514T150000
DTEND;TZID=America/New_York:20260514T160000
DTSTAMP:20260419T083007
CREATED:20260402T152142Z
LAST-MODIFIED:20260418T130715Z
UID:10004075-1778770800-1778774400@silverbay.org
SUMMARY:Moving for Better Balance
DESCRIPTION:Moving for Better Balance is a fall-prevention class\, inspired by and adapted from Tai Chi. Over the course of 12 weeks\, we will learn and practice 8 different movement patterns and a series of therapeutic exercises. Registration is required\, and can be completed on the first day (April 6th) of the class. Please contact program@silverbay.org for any questions or to confirm your attendance!
URL:https://silverbay.org/event/moving-for-better-balance-36/
LOCATION:Fisher Gym Dance Studio
END:VEVENT
BEGIN:VEVENT
DTSTART;TZID=America/New_York:20260518T140000
DTEND;TZID=America/New_York:20260518T150000
DTSTAMP:20260419T083007
CREATED:20260409T170737Z
LAST-MODIFIED:20260418T130729Z
UID:10004182-1779112800-1779116400@silverbay.org
SUMMARY:Moving for Better Balance
DESCRIPTION:Moving for Better Balance is a fall-prevention class\, inspired by and adapted from Tai Chi. Over the course of 12 weeks\, we will learn and practice 8 different movement patterns and a series of therapeutic exercises. Registration is required\, and can be completed on the first day (April 6th) of the class. Please contact program@silverbay.org for any questions or to confirm your attendance!
URL:https://silverbay.org/event/moving-for-better-balance-59/
LOCATION:Fisher Gym Dance Studio
END:VEVENT
BEGIN:VEVENT
DTSTART;TZID=America/New_York:20260518T150000
DTEND;TZID=America/New_York:20260518T160000
DTSTAMP:20260419T083007
CREATED:20260402T152156Z
LAST-MODIFIED:20260418T130741Z
UID:10004076-1779116400-1779120000@silverbay.org
SUMMARY:Moving for Better Balance
DESCRIPTION:Moving for Better Balance is a fall-prevention class\, inspired by and adapted from Tai Chi. Over the course of 12 weeks\, we will learn and practice 8 different movement patterns and a series of therapeutic exercises. Registration is required\, and can be completed on the first day (April 6th) of the class. Please contact program@silverbay.org for any questions or to confirm your attendance!
URL:https://silverbay.org/event/moving-for-better-balance-37/
LOCATION:Fisher Gym Dance Studio
END:VEVENT
BEGIN:VEVENT
DTSTART;TZID=America/New_York:20260520T160000
DTEND;TZID=America/New_York:20260520T170000
DTSTAMP:20260419T083007
CREATED:20260219T232455Z
LAST-MODIFIED:20260418T130742Z
UID:10003568-1779292800-1779296400@silverbay.org
SUMMARY:Evening Yoga
DESCRIPTION:Wrap up your day with a calming guided yoga session designed to help you unwind and relax.
URL:https://silverbay.org/event/evening-yoga-21/
LOCATION:Fisher Gym Dance Studio
END:VEVENT
BEGIN:VEVENT
DTSTART;TZID=America/New_York:20260521T140000
DTEND;TZID=America/New_York:20260521T150000
DTSTAMP:20260419T083007
CREATED:20260409T170804Z
LAST-MODIFIED:20260418T130755Z
UID:10004183-1779372000-1779375600@silverbay.org
SUMMARY:Moving for Better Balance
DESCRIPTION:Moving for Better Balance is a fall-prevention class\, inspired by and adapted from Tai Chi. Over the course of 12 weeks\, we will learn and practice 8 different movement patterns and a series of therapeutic exercises. Registration is required\, and can be completed on the first day (April 6th) of the class. Please contact program@silverbay.org for any questions or to confirm your attendance!
URL:https://silverbay.org/event/moving-for-better-balance-60/
LOCATION:Fisher Gym Dance Studio
END:VEVENT
BEGIN:VEVENT
DTSTART;TZID=America/New_York:20260521T150000
DTEND;TZID=America/New_York:20260521T160000
DTSTAMP:20260419T083007
CREATED:20260402T152210Z
LAST-MODIFIED:20260418T130755Z
UID:10004077-1779375600-1779379200@silverbay.org
SUMMARY:Moving for Better Balance
DESCRIPTION:Moving for Better Balance is a fall-prevention class\, inspired by and adapted from Tai Chi. Over the course of 12 weeks\, we will learn and practice 8 different movement patterns and a series of therapeutic exercises. Registration is required\, and can be completed on the first day (April 6th) of the class. Please contact program@silverbay.org for any questions or to confirm your attendance!
URL:https://silverbay.org/event/moving-for-better-balance-38/
LOCATION:Fisher Gym Dance Studio
END:VEVENT
BEGIN:VEVENT
DTSTART;TZID=America/New_York:20260525T140000
DTEND;TZID=America/New_York:20260525T150000
DTSTAMP:20260419T083007
CREATED:20260409T170832Z
LAST-MODIFIED:20260418T130824Z
UID:10004184-1779717600-1779721200@silverbay.org
SUMMARY:Moving for Better Balance
DESCRIPTION:Moving for Better Balance is a fall-prevention class\, inspired by and adapted from Tai Chi. Over the course of 12 weeks\, we will learn and practice 8 different movement patterns and a series of therapeutic exercises. Registration is required\, and can be completed on the first day (April 6th) of the class. Please contact program@silverbay.org for any questions or to confirm your attendance!
URL:https://silverbay.org/event/moving-for-better-balance-61/
LOCATION:Fisher Gym Dance Studio
END:VEVENT
BEGIN:VEVENT
DTSTART;TZID=America/New_York:20260525T150000
DTEND;TZID=America/New_York:20260525T160000
DTSTAMP:20260419T083007
CREATED:20260402T152254Z
LAST-MODIFIED:20260418T130824Z
UID:10004078-1779721200-1779724800@silverbay.org
SUMMARY:Moving for Better Balance
DESCRIPTION:Moving for Better Balance is a fall-prevention class\, inspired by and adapted from Tai Chi. Over the course of 12 weeks\, we will learn and practice 8 different movement patterns and a series of therapeutic exercises. Registration is required\, and can be completed on the first day (April 6th) of the class. Please contact program@silverbay.org for any questions or to confirm your attendance!
URL:https://silverbay.org/event/moving-for-better-balance-39/
LOCATION:Fisher Gym Dance Studio
END:VEVENT
BEGIN:VEVENT
DTSTART;TZID=America/New_York:20260527T160000
DTEND;TZID=America/New_York:20260527T170000
DTSTAMP:20260419T083007
CREATED:20260226T005614Z
LAST-MODIFIED:20260418T130838Z
UID:10003654-1779897600-1779901200@silverbay.org
SUMMARY:Evening Yoga
DESCRIPTION:Wrap up your day with a calming guided yoga session designed to help you unwind and relax.
URL:https://silverbay.org/event/evening-yoga-22/
LOCATION:Fisher Gym Dance Studio
END:VEVENT
BEGIN:VEVENT
DTSTART;TZID=America/New_York:20260528T140000
DTEND;TZID=America/New_York:20260528T150000
DTSTAMP:20260419T083007
CREATED:20260409T170858Z
LAST-MODIFIED:20260418T130852Z
UID:10004185-1779976800-1779980400@silverbay.org
SUMMARY:Moving for Better Balance
DESCRIPTION:Moving for Better Balance is a fall-prevention class\, inspired by and adapted from Tai Chi. Over the course of 12 weeks\, we will learn and practice 8 different movement patterns and a series of therapeutic exercises. Registration is required\, and can be completed on the first day (April 6th) of the class. Please contact program@silverbay.org for any questions or to confirm your attendance!
URL:https://silverbay.org/event/moving-for-better-balance-62/
LOCATION:Fisher Gym Dance Studio
END:VEVENT
BEGIN:VEVENT
DTSTART;TZID=America/New_York:20260528T150000
DTEND;TZID=America/New_York:20260528T160000
DTSTAMP:20260419T083007
CREATED:20260402T152321Z
LAST-MODIFIED:20260418T130851Z
UID:10004079-1779980400-1779984000@silverbay.org
SUMMARY:Moving for Better Balance
DESCRIPTION:Moving for Better Balance is a fall-prevention class\, inspired by and adapted from Tai Chi. Over the course of 12 weeks\, we will learn and practice 8 different movement patterns and a series of therapeutic exercises. Registration is required\, and can be completed on the first day (April 6th) of the class. Please contact program@silverbay.org for any questions or to confirm your attendance!
URL:https://silverbay.org/event/moving-for-better-balance-40/
LOCATION:Fisher Gym Dance Studio
END:VEVENT
BEGIN:VEVENT
DTSTART;TZID=America/New_York:20260601T140000
DTEND;TZID=America/New_York:20260601T150000
DTSTAMP:20260419T083007
CREATED:20260409T170927Z
LAST-MODIFIED:20260418T130931Z
UID:10004186-1780322400-1780326000@silverbay.org
SUMMARY:Moving for Better Balance
DESCRIPTION:Moving for Better Balance is a fall-prevention class\, inspired by and adapted from Tai Chi. Over the course of 12 weeks\, we will learn and practice 8 different movement patterns and a series of therapeutic exercises. Registration is required\, and can be completed on the first day (April 6th) of the class. Please contact program@silverbay.org for any questions or to confirm your attendance!
URL:https://silverbay.org/event/moving-for-better-balance-63/
LOCATION:Fisher Gym Dance Studio
END:VEVENT
BEGIN:VEVENT
DTSTART;TZID=America/New_York:20260601T150000
DTEND;TZID=America/New_York:20260601T160000
DTSTAMP:20260419T083007
CREATED:20260402T152347Z
LAST-MODIFIED:20260418T130932Z
UID:10004080-1780326000-1780329600@silverbay.org
SUMMARY:Moving for Better Balance
DESCRIPTION:Moving for Better Balance is a fall-prevention class\, inspired by and adapted from Tai Chi. Over the course of 12 weeks\, we will learn and practice 8 different movement patterns and a series of therapeutic exercises. Registration is required\, and can be completed on the first day (April 6th) of the class. Please contact program@silverbay.org for any questions or to confirm your attendance!
URL:https://silverbay.org/event/moving-for-better-balance-41/
LOCATION:Fisher Gym Dance Studio
END:VEVENT
BEGIN:VEVENT
DTSTART;TZID=America/New_York:20260603T160000
DTEND;TZID=America/New_York:20260603T170000
DTSTAMP:20260419T083007
CREATED:20260305T161027Z
LAST-MODIFIED:20260418T130945Z
UID:10003706-1780502400-1780506000@silverbay.org
SUMMARY:Evening Yoga
DESCRIPTION:Wrap up your day with a calming guided yoga session designed to help you unwind and relax.
URL:https://silverbay.org/event/evening-yoga-23/
LOCATION:Fisher Gym Dance Studio
END:VEVENT
BEGIN:VEVENT
DTSTART;TZID=America/New_York:20260604T140000
DTEND;TZID=America/New_York:20260604T150000
DTSTAMP:20260419T083007
CREATED:20260409T171007Z
LAST-MODIFIED:20260418T130959Z
UID:10004187-1780581600-1780585200@silverbay.org
SUMMARY:Moving for Better Balance
DESCRIPTION:Moving for Better Balance is a fall-prevention class\, inspired by and adapted from Tai Chi. Over the course of 12 weeks\, we will learn and practice 8 different movement patterns and a series of therapeutic exercises. Registration is required\, and can be completed on the first day (April 6th) of the class. Please contact program@silverbay.org for any questions or to confirm your attendance!
URL:https://silverbay.org/event/moving-for-better-balance-64/
LOCATION:Fisher Gym Dance Studio
END:VEVENT
BEGIN:VEVENT
DTSTART;TZID=America/New_York:20260604T150000
DTEND;TZID=America/New_York:20260604T160000
DTSTAMP:20260419T083007
CREATED:20260402T152415Z
LAST-MODIFIED:20260418T130958Z
UID:10004081-1780585200-1780588800@silverbay.org
SUMMARY:Moving for Better Balance
DESCRIPTION:Moving for Better Balance is a fall-prevention class\, inspired by and adapted from Tai Chi. Over the course of 12 weeks\, we will learn and practice 8 different movement patterns and a series of therapeutic exercises. Registration is required\, and can be completed on the first day (April 6th) of the class. Please contact program@silverbay.org for any questions or to confirm your attendance!
URL:https://silverbay.org/event/moving-for-better-balance-42/
LOCATION:Fisher Gym Dance Studio
END:VEVENT
BEGIN:VEVENT
DTSTART;TZID=America/New_York:20260608T140000
DTEND;TZID=America/New_York:20260608T150000
DTSTAMP:20260419T083007
CREATED:20260409T171035Z
LAST-MODIFIED:20260418T131026Z
UID:10004188-1780927200-1780930800@silverbay.org
SUMMARY:Moving for Better Balance
DESCRIPTION:Moving for Better Balance is a fall-prevention class\, inspired by and adapted from Tai Chi. Over the course of 12 weeks\, we will learn and practice 8 different movement patterns and a series of therapeutic exercises. Registration is required\, and can be completed on the first day (April 6th) of the class. Please contact program@silverbay.org for any questions or to confirm your attendance!
URL:https://silverbay.org/event/moving-for-better-balance-65/
LOCATION:Fisher Gym Dance Studio
END:VEVENT
BEGIN:VEVENT
DTSTART;TZID=America/New_York:20260608T150000
DTEND;TZID=America/New_York:20260608T160000
DTSTAMP:20260419T083007
CREATED:20260402T152444Z
LAST-MODIFIED:20260418T131026Z
UID:10004082-1780930800-1780934400@silverbay.org
SUMMARY:Moving for Better Balance
DESCRIPTION:Moving for Better Balance is a fall-prevention class\, inspired by and adapted from Tai Chi. Over the course of 12 weeks\, we will learn and practice 8 different movement patterns and a series of therapeutic exercises. Registration is required\, and can be completed on the first day (April 6th) of the class. Please contact program@silverbay.org for any questions or to confirm your attendance!
URL:https://silverbay.org/event/moving-for-better-balance-43/
LOCATION:Fisher Gym Dance Studio
END:VEVENT
BEGIN:VEVENT
DTSTART;TZID=America/New_York:20260610T160000
DTEND;TZID=America/New_York:20260610T170000
DTSTAMP:20260419T083007
CREATED:20260312T175801Z
LAST-MODIFIED:20260418T131039Z
UID:10003822-1781107200-1781110800@silverbay.org
SUMMARY:Evening Yoga
DESCRIPTION:Wrap up your day with a calming guided yoga session designed to help you unwind and relax.
URL:https://silverbay.org/event/evening-yoga-24/
LOCATION:Fisher Gym Dance Studio
END:VEVENT
BEGIN:VEVENT
DTSTART;TZID=America/New_York:20260611T140000
DTEND;TZID=America/New_York:20260611T150000
DTSTAMP:20260419T083007
CREATED:20260409T171102Z
LAST-MODIFIED:20260418T131106Z
UID:10004189-1781186400-1781190000@silverbay.org
SUMMARY:Moving for Better Balance
DESCRIPTION:Moving for Better Balance is a fall-prevention class\, inspired by and adapted from Tai Chi. Over the course of 12 weeks\, we will learn and practice 8 different movement patterns and a series of therapeutic exercises. Registration is required\, and can be completed on the first day (April 6th) of the class. Please contact program@silverbay.org for any questions or to confirm your attendance!
URL:https://silverbay.org/event/moving-for-better-balance-66/
LOCATION:Fisher Gym Dance Studio
END:VEVENT
BEGIN:VEVENT
DTSTART;TZID=America/New_York:20260611T150000
DTEND;TZID=America/New_York:20260611T160000
DTSTAMP:20260419T083007
CREATED:20260402T152512Z
LAST-MODIFIED:20260418T131053Z
UID:10004083-1781190000-1781193600@silverbay.org
SUMMARY:Moving for Better Balance
DESCRIPTION:Moving for Better Balance is a fall-prevention class\, inspired by and adapted from Tai Chi. Over the course of 12 weeks\, we will learn and practice 8 different movement patterns and a series of therapeutic exercises. Registration is required\, and can be completed on the first day (April 6th) of the class. Please contact program@silverbay.org for any questions or to confirm your attendance!
URL:https://silverbay.org/event/moving-for-better-balance-44/
LOCATION:Fisher Gym Dance Studio
END:VEVENT
BEGIN:VEVENT
DTSTART;TZID=America/New_York:20260615T140000
DTEND;TZID=America/New_York:20260615T150000
DTSTAMP:20260419T083007
CREATED:20260409T171145Z
LAST-MODIFIED:20260418T131133Z
UID:10004190-1781532000-1781535600@silverbay.org
SUMMARY:Moving for Better Balance
DESCRIPTION:Moving for Better Balance is a fall-prevention class\, inspired by and adapted from Tai Chi. Over the course of 12 weeks\, we will learn and practice 8 different movement patterns and a series of therapeutic exercises. Registration is required\, and can be completed on the first day (April 6th) of the class. Please contact program@silverbay.org for any questions or to confirm your attendance!
URL:https://silverbay.org/event/moving-for-better-balance-67/
LOCATION:Fisher Gym Dance Studio
END:VEVENT
BEGIN:VEVENT
DTSTART;TZID=America/New_York:20260615T150000
DTEND;TZID=America/New_York:20260615T160000
DTSTAMP:20260419T083007
CREATED:20260402T152552Z
LAST-MODIFIED:20260418T131121Z
UID:10004084-1781535600-1781539200@silverbay.org
SUMMARY:Moving for Better Balance
DESCRIPTION:Moving for Better Balance is a fall-prevention class\, inspired by and adapted from Tai Chi. Over the course of 12 weeks\, we will learn and practice 8 different movement patterns and a series of therapeutic exercises. Registration is required\, and can be completed on the first day (April 6th) of the class. Please contact program@silverbay.org for any questions or to confirm your attendance!
URL:https://silverbay.org/event/moving-for-better-balance-45/
LOCATION:Fisher Gym Dance Studio
END:VEVENT
END:VCALENDAR