BEGIN:VCALENDAR
VERSION:2.0
PRODID:-//Silver Bay YMCA - ECPv6.15.17//NONSGML v1.0//EN
CALSCALE:GREGORIAN
METHOD:PUBLISH
X-WR-CALNAME:Silver Bay YMCA
X-ORIGINAL-URL:https://silverbay.org
X-WR-CALDESC:Events for Silver Bay YMCA
REFRESH-INTERVAL;VALUE=DURATION:PT1H
X-Robots-Tag:noindex
X-PUBLISHED-TTL:PT1H
BEGIN:VTIMEZONE
TZID:America/New_York
BEGIN:DAYLIGHT
TZOFFSETFROM:-0500
TZOFFSETTO:-0400
TZNAME:EDT
DTSTART:20250309T070000
END:DAYLIGHT
BEGIN:STANDARD
TZOFFSETFROM:-0400
TZOFFSETTO:-0500
TZNAME:EST
DTSTART:20251102T060000
END:STANDARD
BEGIN:DAYLIGHT
TZOFFSETFROM:-0500
TZOFFSETTO:-0400
TZNAME:EDT
DTSTART:20260308T070000
END:DAYLIGHT
BEGIN:STANDARD
TZOFFSETFROM:-0400
TZOFFSETTO:-0500
TZNAME:EST
DTSTART:20261101T060000
END:STANDARD
BEGIN:DAYLIGHT
TZOFFSETFROM:-0500
TZOFFSETTO:-0400
TZNAME:EDT
DTSTART:20270314T070000
END:DAYLIGHT
BEGIN:STANDARD
TZOFFSETFROM:-0400
TZOFFSETTO:-0500
TZNAME:EST
DTSTART:20271107T060000
END:STANDARD
END:VTIMEZONE
BEGIN:VEVENT
DTSTART;TZID=America/New_York:20260516T060000
DTEND;TZID=America/New_York:20260516T210000
DTSTAMP:20260422T043205
CREATED:20260215T222451Z
LAST-MODIFIED:20260421T135120Z
UID:10003552-1778911200-1778965200@silverbay.org
SUMMARY:Fitness Center Open Hours
DESCRIPTION:Take advantage of a range of workout equipment\, including free weights\, treadmills\, cable machines\, and more. All available in Fisher Gym. Additionally\, a smaller fitness area is conveniently located on the first floor of the William Boyd Center.
URL:https://silverbay.org/event/fitness-center-open-hours-131/
LOCATION:Fisher Gym\, William Boyd Fitness Center
END:VEVENT
BEGIN:VEVENT
DTSTART;TZID=America/New_York:20260517T060000
DTEND;TZID=America/New_York:20260517T210000
DTSTAMP:20260422T043205
CREATED:20260216T224000Z
LAST-MODIFIED:20260421T135133Z
UID:10003554-1778997600-1779051600@silverbay.org
SUMMARY:Fitness Center Open Hours
DESCRIPTION:Take advantage of a range of workout equipment\, including free weights\, treadmills\, cable machines\, and more. All available in Fisher Gym. Additionally\, a smaller fitness area is conveniently located on the first floor of the William Boyd Center.
URL:https://silverbay.org/event/fitness-center-open-hours-132/
LOCATION:Fisher Gym\, William Boyd Fitness Center
END:VEVENT
BEGIN:VEVENT
DTSTART;TZID=America/New_York:20260518T060000
DTEND;TZID=America/New_York:20260518T210000
DTSTAMP:20260422T043205
CREATED:20260217T225450Z
LAST-MODIFIED:20260421T135133Z
UID:10003556-1779084000-1779138000@silverbay.org
SUMMARY:Fitness Center Open Hours
DESCRIPTION:Take advantage of a range of workout equipment\, including free weights\, treadmills\, cable machines\, and more. All available in Fisher Gym. Additionally\, a smaller fitness area is conveniently located on the first floor of the William Boyd Center.
URL:https://silverbay.org/event/fitness-center-open-hours-133/
LOCATION:Fisher Gym\, William Boyd Fitness Center
END:VEVENT
BEGIN:VEVENT
DTSTART;TZID=America/New_York:20260519T060000
DTEND;TZID=America/New_York:20260519T210000
DTSTAMP:20260422T043205
CREATED:20260218T231004Z
LAST-MODIFIED:20260421T135145Z
UID:10003563-1779170400-1779224400@silverbay.org
SUMMARY:Fitness Center Open Hours
DESCRIPTION:Take advantage of a range of workout equipment\, including free weights\, treadmills\, cable machines\, and more. All available in Fisher Gym. Additionally\, a smaller fitness area is conveniently located on the first floor of the William Boyd Center.
URL:https://silverbay.org/event/fitness-center-open-hours-134/
LOCATION:Fisher Gym\, William Boyd Fitness Center
END:VEVENT
BEGIN:VEVENT
DTSTART;TZID=America/New_York:20260520T060000
DTEND;TZID=America/New_York:20260520T210000
DTSTAMP:20260422T043205
CREATED:20260219T232456Z
LAST-MODIFIED:20260421T135146Z
UID:10003570-1779256800-1779310800@silverbay.org
SUMMARY:Fitness Center Open Hours
DESCRIPTION:Take advantage of a range of workout equipment\, including free weights\, treadmills\, cable machines\, and more. All available in Fisher Gym. Additionally\, a smaller fitness area is conveniently located on the first floor of the William Boyd Center.
URL:https://silverbay.org/event/fitness-center-open-hours-135/
LOCATION:Fisher Gym\, William Boyd Fitness Center
END:VEVENT
BEGIN:VEVENT
DTSTART;TZID=America/New_York:20260521T060000
DTEND;TZID=America/New_York:20260521T210000
DTSTAMP:20260422T043205
CREATED:20260220T233939Z
LAST-MODIFIED:20260421T135200Z
UID:10003572-1779343200-1779397200@silverbay.org
SUMMARY:Fitness Center Open Hours
DESCRIPTION:Take advantage of a range of workout equipment\, including free weights\, treadmills\, cable machines\, and more. All available in Fisher Gym. Additionally\, a smaller fitness area is conveniently located on the first floor of the William Boyd Center.
URL:https://silverbay.org/event/fitness-center-open-hours-136/
LOCATION:Fisher Gym\, William Boyd Fitness Center
END:VEVENT
BEGIN:VEVENT
DTSTART;TZID=America/New_York:20260522T060000
DTEND;TZID=America/New_York:20260522T210000
DTSTAMP:20260422T043205
CREATED:20260221T235409Z
LAST-MODIFIED:20260421T135201Z
UID:10003574-1779429600-1779483600@silverbay.org
SUMMARY:Fitness Center Open Hours
DESCRIPTION:Take advantage of a range of workout equipment\, including free weights\, treadmills\, cable machines\, and more. All available in Fisher Gym. Additionally\, a smaller fitness area is conveniently located on the first floor of the William Boyd Center.
URL:https://silverbay.org/event/fitness-center-open-hours-137/
LOCATION:Fisher Gym\, William Boyd Fitness Center
END:VEVENT
BEGIN:VEVENT
DTSTART;TZID=America/New_York:20260523T060000
DTEND;TZID=America/New_York:20260523T210000
DTSTAMP:20260422T043205
CREATED:20260224T002543Z
LAST-MODIFIED:20260421T135215Z
UID:10003641-1779516000-1779570000@silverbay.org
SUMMARY:Fitness Center Open Hours
DESCRIPTION:Take advantage of a range of workout equipment\, including free weights\, treadmills\, cable machines\, and more. All available in Fisher Gym. Additionally\, a smaller fitness area is conveniently located on the first floor of the William Boyd Center.
URL:https://silverbay.org/event/fitness-center-open-hours-138/
LOCATION:Fisher Gym\, William Boyd Fitness Center
END:VEVENT
BEGIN:VEVENT
DTSTART;TZID=America/New_York:20260524T060000
DTEND;TZID=America/New_York:20260524T210000
DTSTAMP:20260422T043205
CREATED:20260224T002557Z
LAST-MODIFIED:20260421T135215Z
UID:10003644-1779602400-1779656400@silverbay.org
SUMMARY:Fitness Center Open Hours
DESCRIPTION:Take advantage of a range of workout equipment\, including free weights\, treadmills\, cable machines\, and more. All available in Fisher Gym. Additionally\, a smaller fitness area is conveniently located on the first floor of the William Boyd Center.
URL:https://silverbay.org/event/fitness-center-open-hours-139/
LOCATION:Fisher Gym\, William Boyd Fitness Center
END:VEVENT
BEGIN:VEVENT
DTSTART;TZID=America/New_York:20260525T060000
DTEND;TZID=America/New_York:20260525T210000
DTSTAMP:20260422T043205
CREATED:20260224T002558Z
LAST-MODIFIED:20260421T135228Z
UID:10003646-1779688800-1779742800@silverbay.org
SUMMARY:Fitness Center Open Hours
DESCRIPTION:Take advantage of a range of workout equipment\, including free weights\, treadmills\, cable machines\, and more. All available in Fisher Gym. Additionally\, a smaller fitness area is conveniently located on the first floor of the William Boyd Center.
URL:https://silverbay.org/event/fitness-center-open-hours-140/
LOCATION:Fisher Gym\, William Boyd Fitness Center
END:VEVENT
BEGIN:VEVENT
DTSTART;TZID=America/New_York:20260526T060000
DTEND;TZID=America/New_York:20260526T210000
DTSTAMP:20260422T043205
CREATED:20260225T004100Z
LAST-MODIFIED:20260421T135229Z
UID:10003649-1779775200-1779829200@silverbay.org
SUMMARY:Fitness Center Open Hours
DESCRIPTION:Take advantage of a range of workout equipment\, including free weights\, treadmills\, cable machines\, and more. All available in Fisher Gym. Additionally\, a smaller fitness area is conveniently located on the first floor of the William Boyd Center.
URL:https://silverbay.org/event/fitness-center-open-hours-141/
LOCATION:Fisher Gym\, William Boyd Fitness Center
END:VEVENT
BEGIN:VEVENT
DTSTART;TZID=America/New_York:20260527T060000
DTEND;TZID=America/New_York:20260527T210000
DTSTAMP:20260422T043205
CREATED:20260226T005614Z
LAST-MODIFIED:20260421T135242Z
UID:10003653-1779861600-1779915600@silverbay.org
SUMMARY:Fitness Center Open Hours
DESCRIPTION:Take advantage of a range of workout equipment\, including free weights\, treadmills\, cable machines\, and more. All available in Fisher Gym. Additionally\, a smaller fitness area is conveniently located on the first floor of the William Boyd Center.
URL:https://silverbay.org/event/fitness-center-open-hours-142/
LOCATION:Fisher Gym\, William Boyd Fitness Center
END:VEVENT
BEGIN:VEVENT
DTSTART;TZID=America/New_York:20260528T060000
DTEND;TZID=America/New_York:20260528T210000
DTSTAMP:20260422T043205
CREATED:20260227T011135Z
LAST-MODIFIED:20260421T135254Z
UID:10003657-1779948000-1780002000@silverbay.org
SUMMARY:Fitness Center Open Hours
DESCRIPTION:Take advantage of a range of workout equipment\, including free weights\, treadmills\, cable machines\, and more. All available in Fisher Gym. Additionally\, a smaller fitness area is conveniently located on the first floor of the William Boyd Center.
URL:https://silverbay.org/event/fitness-center-open-hours-143/
LOCATION:Fisher Gym\, William Boyd Fitness Center
END:VEVENT
BEGIN:VEVENT
DTSTART;TZID=America/New_York:20260529T060000
DTEND;TZID=America/New_York:20260529T210000
DTSTAMP:20260422T043205
CREATED:20260228T012604Z
LAST-MODIFIED:20260421T135255Z
UID:10003659-1780034400-1780088400@silverbay.org
SUMMARY:Fitness Center Open Hours
DESCRIPTION:Take advantage of a range of workout equipment\, including free weights\, treadmills\, cable machines\, and more. All available in Fisher Gym. Additionally\, a smaller fitness area is conveniently located on the first floor of the William Boyd Center.
URL:https://silverbay.org/event/fitness-center-open-hours-144/
LOCATION:Fisher Gym\, William Boyd Fitness Center
END:VEVENT
BEGIN:VEVENT
DTSTART;TZID=America/New_York:20260530T060000
DTEND;TZID=America/New_York:20260530T210000
DTSTAMP:20260422T043205
CREATED:20260301T014047Z
LAST-MODIFIED:20260421T135308Z
UID:10003662-1780120800-1780174800@silverbay.org
SUMMARY:Fitness Center Open Hours
DESCRIPTION:Take advantage of a range of workout equipment\, including free weights\, treadmills\, cable machines\, and more. All available in Fisher Gym. Additionally\, a smaller fitness area is conveniently located on the first floor of the William Boyd Center.
URL:https://silverbay.org/event/fitness-center-open-hours-145/
LOCATION:Fisher Gym\, William Boyd Fitness Center
END:VEVENT
BEGIN:VEVENT
DTSTART;TZID=America/New_York:20260531T060000
DTEND;TZID=America/New_York:20260531T210000
DTSTAMP:20260422T043205
CREATED:20260302T015557Z
LAST-MODIFIED:20260421T135322Z
UID:10003665-1780207200-1780261200@silverbay.org
SUMMARY:Fitness Center Open Hours
DESCRIPTION:Take advantage of a range of workout equipment\, including free weights\, treadmills\, cable machines\, and more. All available in Fisher Gym. Additionally\, a smaller fitness area is conveniently located on the first floor of the William Boyd Center.
URL:https://silverbay.org/event/fitness-center-open-hours-146/
LOCATION:Fisher Gym\, William Boyd Fitness Center
END:VEVENT
BEGIN:VEVENT
DTSTART;TZID=America/New_York:20260601T060000
DTEND;TZID=America/New_York:20260601T210000
DTSTAMP:20260422T043205
CREATED:20260303T021051Z
LAST-MODIFIED:20260421T135335Z
UID:10003667-1780293600-1780347600@silverbay.org
SUMMARY:Fitness Center Open Hours
DESCRIPTION:Take advantage of a range of workout equipment\, including free weights\, treadmills\, cable machines\, and more. All available in Fisher Gym. Additionally\, a smaller fitness area is conveniently located on the first floor of the William Boyd Center.
URL:https://silverbay.org/event/fitness-center-open-hours-147/
LOCATION:Fisher Gym\, William Boyd Fitness Center
END:VEVENT
BEGIN:VEVENT
DTSTART;TZID=America/New_York:20260602T060000
DTEND;TZID=America/New_York:20260602T210000
DTSTAMP:20260422T043205
CREATED:20260304T022546Z
LAST-MODIFIED:20260421T135336Z
UID:10003670-1780380000-1780434000@silverbay.org
SUMMARY:Fitness Center Open Hours
DESCRIPTION:Take advantage of a range of workout equipment\, including free weights\, treadmills\, cable machines\, and more. All available in Fisher Gym. Additionally\, a smaller fitness area is conveniently located on the first floor of the William Boyd Center.
URL:https://silverbay.org/event/fitness-center-open-hours-148/
LOCATION:Fisher Gym\, William Boyd Fitness Center
END:VEVENT
BEGIN:VEVENT
DTSTART;TZID=America/New_York:20260603T060000
DTEND;TZID=America/New_York:20260603T210000
DTSTAMP:20260422T043205
CREATED:20260305T161026Z
LAST-MODIFIED:20260421T135349Z
UID:10003705-1780466400-1780520400@silverbay.org
SUMMARY:Fitness Center Open Hours
DESCRIPTION:Take advantage of a range of workout equipment\, including free weights\, treadmills\, cable machines\, and more. All available in Fisher Gym. Additionally\, a smaller fitness area is conveniently located on the first floor of the William Boyd Center.
URL:https://silverbay.org/event/fitness-center-open-hours-149/
LOCATION:Fisher Gym\, William Boyd Fitness Center
END:VEVENT
BEGIN:VEVENT
DTSTART;TZID=America/New_York:20260604T060000
DTEND;TZID=America/New_York:20260604T210000
DTSTAMP:20260422T043205
CREATED:20260307T164039Z
LAST-MODIFIED:20260421T135350Z
UID:10003718-1780552800-1780606800@silverbay.org
SUMMARY:Fitness Center Open Hours
DESCRIPTION:Take advantage of a range of workout equipment\, including free weights\, treadmills\, cable machines\, and more. All available in Fisher Gym. Additionally\, a smaller fitness area is conveniently located on the first floor of the William Boyd Center.
URL:https://silverbay.org/event/fitness-center-open-hours-150/
LOCATION:Fisher Gym\, William Boyd Fitness Center
END:VEVENT
BEGIN:VEVENT
DTSTART;TZID=America/New_York:20260605T060000
DTEND;TZID=America/New_York:20260605T210000
DTSTAMP:20260422T043205
CREATED:20260307T164040Z
LAST-MODIFIED:20260421T135403Z
UID:10003721-1780639200-1780693200@silverbay.org
SUMMARY:Fitness Center Open Hours
DESCRIPTION:Take advantage of a range of workout equipment\, including free weights\, treadmills\, cable machines\, and more. All available in Fisher Gym. Additionally\, a smaller fitness area is conveniently located on the first floor of the William Boyd Center.
URL:https://silverbay.org/event/fitness-center-open-hours-151/
LOCATION:Fisher Gym\, William Boyd Fitness Center
END:VEVENT
BEGIN:VEVENT
DTSTART;TZID=America/New_York:20260606T060000
DTEND;TZID=America/New_York:20260606T210000
DTSTAMP:20260422T043205
CREATED:20260308T165707Z
LAST-MODIFIED:20260421T135415Z
UID:10003724-1780725600-1780779600@silverbay.org
SUMMARY:Fitness Center Open Hours
DESCRIPTION:Take advantage of a range of workout equipment\, including free weights\, treadmills\, cable machines\, and more. All available in Fisher Gym. Additionally\, a smaller fitness area is conveniently located on the first floor of the William Boyd Center.
URL:https://silverbay.org/event/fitness-center-open-hours-152/
LOCATION:Fisher Gym\, William Boyd Fitness Center
END:VEVENT
BEGIN:VEVENT
DTSTART;TZID=America/New_York:20260607T060000
DTEND;TZID=America/New_York:20260607T210000
DTSTAMP:20260422T043205
CREATED:20260309T171032Z
LAST-MODIFIED:20260421T135416Z
UID:10003726-1780812000-1780866000@silverbay.org
SUMMARY:Fitness Center Open Hours
DESCRIPTION:Take advantage of a range of workout equipment\, including free weights\, treadmills\, cable machines\, and more. All available in Fisher Gym. Additionally\, a smaller fitness area is conveniently located on the first floor of the William Boyd Center.
URL:https://silverbay.org/event/fitness-center-open-hours-153/
LOCATION:Fisher Gym\, William Boyd Fitness Center
END:VEVENT
BEGIN:VEVENT
DTSTART;TZID=America/New_York:20260608T060000
DTEND;TZID=America/New_York:20260608T210000
DTSTAMP:20260422T043206
CREATED:20260310T172525Z
LAST-MODIFIED:20260421T135429Z
UID:10003741-1780898400-1780952400@silverbay.org
SUMMARY:Fitness Center Open Hours
DESCRIPTION:Take advantage of a range of workout equipment\, including free weights\, treadmills\, cable machines\, and more. All available in Fisher Gym. Additionally\, a smaller fitness area is conveniently located on the first floor of the William Boyd Center.
URL:https://silverbay.org/event/fitness-center-open-hours-154/
LOCATION:Fisher Gym\, William Boyd Fitness Center
END:VEVENT
BEGIN:VEVENT
DTSTART;TZID=America/New_York:20260609T060000
DTEND;TZID=America/New_York:20260609T210000
DTSTAMP:20260422T043206
CREATED:20260311T174121Z
LAST-MODIFIED:20260421T135443Z
UID:10003744-1780984800-1781038800@silverbay.org
SUMMARY:Fitness Center Open Hours
DESCRIPTION:Take advantage of a range of workout equipment\, including free weights\, treadmills\, cable machines\, and more. All available in Fisher Gym. Additionally\, a smaller fitness area is conveniently located on the first floor of the William Boyd Center.
URL:https://silverbay.org/event/fitness-center-open-hours-155/
LOCATION:Fisher Gym\, William Boyd Fitness Center
END:VEVENT
BEGIN:VEVENT
DTSTART;TZID=America/New_York:20260610T060000
DTEND;TZID=America/New_York:20260610T210000
DTSTAMP:20260422T043206
CREATED:20260312T175801Z
LAST-MODIFIED:20260421T135443Z
UID:10003825-1781071200-1781125200@silverbay.org
SUMMARY:Fitness Center Open Hours
DESCRIPTION:Take advantage of a range of workout equipment\, including free weights\, treadmills\, cable machines\, and more. All available in Fisher Gym. Additionally\, a smaller fitness area is conveniently located on the first floor of the William Boyd Center.
URL:https://silverbay.org/event/fitness-center-open-hours-156/
LOCATION:Fisher Gym\, William Boyd Fitness Center
END:VEVENT
BEGIN:VEVENT
DTSTART;TZID=America/New_York:20260611T060000
DTEND;TZID=America/New_York:20260611T210000
DTSTAMP:20260422T043206
CREATED:20260313T181308Z
LAST-MODIFIED:20260421T135458Z
UID:10003832-1781157600-1781211600@silverbay.org
SUMMARY:Fitness Center Open Hours
DESCRIPTION:Take advantage of a range of workout equipment\, including free weights\, treadmills\, cable machines\, and more. All available in Fisher Gym. Additionally\, a smaller fitness area is conveniently located on the first floor of the William Boyd Center.
URL:https://silverbay.org/event/fitness-center-open-hours-157/
LOCATION:Fisher Gym\, William Boyd Fitness Center
END:VEVENT
BEGIN:VEVENT
DTSTART;TZID=America/New_York:20260612T060000
DTEND;TZID=America/New_York:20260612T210000
DTSTAMP:20260422T043206
CREATED:20260314T182634Z
LAST-MODIFIED:20260421T135458Z
UID:10003836-1781244000-1781298000@silverbay.org
SUMMARY:Fitness Center Open Hours
DESCRIPTION:Take advantage of a range of workout equipment\, including free weights\, treadmills\, cable machines\, and more. All available in Fisher Gym. Additionally\, a smaller fitness area is conveniently located on the first floor of the William Boyd Center.
URL:https://silverbay.org/event/fitness-center-open-hours-158/
LOCATION:Fisher Gym\, William Boyd Fitness Center
END:VEVENT
BEGIN:VEVENT
DTSTART;TZID=America/New_York:20260613T060000
DTEND;TZID=America/New_York:20260613T210000
DTSTAMP:20260422T043206
CREATED:20260315T184147Z
LAST-MODIFIED:20260421T135511Z
UID:10003842-1781330400-1781384400@silverbay.org
SUMMARY:Fitness Center Open Hours
DESCRIPTION:Take advantage of a range of workout equipment\, including free weights\, treadmills\, cable machines\, and more. All available in Fisher Gym. Additionally\, a smaller fitness area is conveniently located on the first floor of the William Boyd Center.
URL:https://silverbay.org/event/fitness-center-open-hours-159/
LOCATION:Fisher Gym\, William Boyd Fitness Center
END:VEVENT
BEGIN:VEVENT
DTSTART;TZID=America/New_York:20260614T060000
DTEND;TZID=America/New_York:20260614T210000
DTSTAMP:20260422T043206
CREATED:20260316T185636Z
LAST-MODIFIED:20260421T135523Z
UID:10003847-1781416800-1781470800@silverbay.org
SUMMARY:Fitness Center Open Hours
DESCRIPTION:Take advantage of a range of workout equipment\, including free weights\, treadmills\, cable machines\, and more. All available in Fisher Gym. Additionally\, a smaller fitness area is conveniently located on the first floor of the William Boyd Center.
URL:https://silverbay.org/event/fitness-center-open-hours-160/
LOCATION:Fisher Gym\, William Boyd Fitness Center
END:VEVENT
END:VCALENDAR