BEGIN:VCALENDAR
VERSION:2.0
PRODID:-//Silver Bay YMCA - ECPv6.15.17//NONSGML v1.0//EN
CALSCALE:GREGORIAN
METHOD:PUBLISH
X-WR-CALNAME:Silver Bay YMCA
X-ORIGINAL-URL:https://silverbay.org
X-WR-CALDESC:Events for Silver Bay YMCA
REFRESH-INTERVAL;VALUE=DURATION:PT1H
X-Robots-Tag:noindex
X-PUBLISHED-TTL:PT1H
BEGIN:VTIMEZONE
TZID:America/New_York
BEGIN:DAYLIGHT
TZOFFSETFROM:-0500
TZOFFSETTO:-0400
TZNAME:EDT
DTSTART:20250309T070000
END:DAYLIGHT
BEGIN:STANDARD
TZOFFSETFROM:-0400
TZOFFSETTO:-0500
TZNAME:EST
DTSTART:20251102T060000
END:STANDARD
BEGIN:DAYLIGHT
TZOFFSETFROM:-0500
TZOFFSETTO:-0400
TZNAME:EDT
DTSTART:20260308T070000
END:DAYLIGHT
BEGIN:STANDARD
TZOFFSETFROM:-0400
TZOFFSETTO:-0500
TZNAME:EST
DTSTART:20261101T060000
END:STANDARD
BEGIN:DAYLIGHT
TZOFFSETFROM:-0500
TZOFFSETTO:-0400
TZNAME:EDT
DTSTART:20270314T070000
END:DAYLIGHT
BEGIN:STANDARD
TZOFFSETFROM:-0400
TZOFFSETTO:-0500
TZNAME:EST
DTSTART:20271107T060000
END:STANDARD
END:VTIMEZONE
BEGIN:VEVENT
DTSTART;TZID=America/New_York:20260419T080000
DTEND;TZID=America/New_York:20260419T230000
DTSTAMP:20260420T122741
CREATED:20260119T062715Z
LAST-MODIFIED:20260419T131803Z
UID:10003464-1776585600-1776639600@silverbay.org
SUMMARY:Library Open Hours
DESCRIPTION:
URL:https://silverbay.org/event/library-open-hours-131/
LOCATION:George & Kay Berry Library
END:VEVENT
BEGIN:VEVENT
DTSTART;TZID=America/New_York:20260418T080000
DTEND;TZID=America/New_York:20260418T230000
DTSTAMP:20260420T122741
CREATED:20260119T062714Z
LAST-MODIFIED:20260418T130425Z
UID:10003462-1776499200-1776553200@silverbay.org
SUMMARY:Library Open Hours
DESCRIPTION:
URL:https://silverbay.org/event/library-open-hours-130/
LOCATION:George & Kay Berry Library
END:VEVENT
BEGIN:VEVENT
DTSTART;TZID=America/New_York:20260417T080000
DTEND;TZID=America/New_York:20260417T230000
DTSTAMP:20260420T122741
CREATED:20260117T055705Z
LAST-MODIFIED:20260417T124856Z
UID:10003460-1776412800-1776466800@silverbay.org
SUMMARY:Library Open Hours
DESCRIPTION:
URL:https://silverbay.org/event/library-open-hours-129/
LOCATION:George & Kay Berry Library
END:VEVENT
BEGIN:VEVENT
DTSTART;TZID=America/New_York:20260416T080000
DTEND;TZID=America/New_York:20260416T230000
DTSTAMP:20260420T122741
CREATED:20260116T054219Z
LAST-MODIFIED:20260416T123300Z
UID:10003458-1776326400-1776380400@silverbay.org
SUMMARY:Library Open Hours
DESCRIPTION:
URL:https://silverbay.org/event/library-open-hours-128/
LOCATION:George & Kay Berry Library
END:VEVENT
BEGIN:VEVENT
DTSTART;TZID=America/New_York:20260415T080000
DTEND;TZID=America/New_York:20260415T230000
DTSTAMP:20260420T122741
CREATED:20260115T052648Z
LAST-MODIFIED:20260415T121553Z
UID:10003455-1776240000-1776294000@silverbay.org
SUMMARY:Library Open Hours
DESCRIPTION:
URL:https://silverbay.org/event/library-open-hours-127/
LOCATION:George & Kay Berry Library
END:VEVENT
BEGIN:VEVENT
DTSTART;TZID=America/New_York:20260414T080000
DTEND;TZID=America/New_York:20260414T230000
DTSTAMP:20260420T122741
CREATED:20260114T051215Z
LAST-MODIFIED:20260414T224825Z
UID:10003454-1776153600-1776207600@silverbay.org
SUMMARY:Library Open Hours
DESCRIPTION:
URL:https://silverbay.org/event/library-open-hours-126/
LOCATION:George & Kay Berry Library
END:VEVENT
BEGIN:VEVENT
DTSTART;TZID=America/New_York:20260413T080000
DTEND;TZID=America/New_York:20260413T230000
DTSTAMP:20260420T122741
CREATED:20260113T045647Z
LAST-MODIFIED:20260413T180310Z
UID:10003450-1776067200-1776121200@silverbay.org
SUMMARY:Library Open Hours
DESCRIPTION:
URL:https://silverbay.org/event/library-open-hours-125/
LOCATION:George & Kay Berry Library
END:VEVENT
BEGIN:VEVENT
DTSTART;TZID=America/New_York:20260412T080000
DTEND;TZID=America/New_York:20260412T230000
DTSTAMP:20260420T122741
CREATED:20260112T044215Z
LAST-MODIFIED:20260412T174808Z
UID:10003448-1775980800-1776034800@silverbay.org
SUMMARY:Library Open Hours
DESCRIPTION:
URL:https://silverbay.org/event/library-open-hours-124/
LOCATION:George & Kay Berry Library
END:VEVENT
BEGIN:VEVENT
DTSTART;TZID=America/New_York:20260411T080000
DTEND;TZID=America/New_York:20260411T230000
DTSTAMP:20260420T122741
CREATED:20260111T042711Z
LAST-MODIFIED:20260411T173334Z
UID:10003446-1775894400-1775948400@silverbay.org
SUMMARY:Library Open Hours
DESCRIPTION:
URL:https://silverbay.org/event/library-open-hours-123/
LOCATION:George & Kay Berry Library
END:VEVENT
BEGIN:VEVENT
DTSTART;TZID=America/New_York:20260410T080000
DTEND;TZID=America/New_York:20260410T230000
DTSTAMP:20260420T122741
CREATED:20260110T041243Z
LAST-MODIFIED:20260410T171803Z
UID:10003444-1775808000-1775862000@silverbay.org
SUMMARY:Library Open Hours
DESCRIPTION:
URL:https://silverbay.org/event/library-open-hours-122/
LOCATION:George & Kay Berry Library
END:VEVENT
BEGIN:VEVENT
DTSTART;TZID=America/New_York:20260409T080000
DTEND;TZID=America/New_York:20260409T230000
DTSTAMP:20260420T122741
CREATED:20260109T035841Z
LAST-MODIFIED:20260409T170319Z
UID:10003442-1775721600-1775775600@silverbay.org
SUMMARY:Library Open Hours
DESCRIPTION:
URL:https://silverbay.org/event/library-open-hours-121/
LOCATION:George & Kay Berry Library
END:VEVENT
BEGIN:VEVENT
DTSTART;TZID=America/New_York:20260408T080000
DTEND;TZID=America/New_York:20260408T230000
DTSTAMP:20260420T122741
CREATED:20260108T034402Z
LAST-MODIFIED:20260408T164800Z
UID:10003428-1775635200-1775689200@silverbay.org
SUMMARY:Library Open Hours
DESCRIPTION:
URL:https://silverbay.org/event/library-open-hours-120/
LOCATION:George & Kay Berry Library
END:VEVENT
BEGIN:VEVENT
DTSTART;TZID=America/New_York:20260407T080000
DTEND;TZID=America/New_York:20260407T230000
DTSTAMP:20260420T122741
CREATED:20260107T032724Z
LAST-MODIFIED:20260407T163308Z
UID:10003424-1775548800-1775602800@silverbay.org
SUMMARY:Library Open Hours
DESCRIPTION:
URL:https://silverbay.org/event/library-open-hours-119/
LOCATION:George & Kay Berry Library
END:VEVENT
BEGIN:VEVENT
DTSTART;TZID=America/New_York:20260406T080000
DTEND;TZID=America/New_York:20260406T230000
DTSTAMP:20260420T122741
CREATED:20260106T031432Z
LAST-MODIFIED:20260406T161803Z
UID:10003422-1775462400-1775516400@silverbay.org
SUMMARY:Library Open Hours
DESCRIPTION:
URL:https://silverbay.org/event/library-open-hours-118/
LOCATION:George & Kay Berry Library
END:VEVENT
BEGIN:VEVENT
DTSTART;TZID=America/New_York:20260405T080000
DTEND;TZID=America/New_York:20260405T230000
DTSTAMP:20260420T122741
CREATED:20260105T030543Z
LAST-MODIFIED:20260405T160302Z
UID:10003134-1775376000-1775430000@silverbay.org
SUMMARY:Library Open Hours
DESCRIPTION:
URL:https://silverbay.org/event/library-open-hours-117/
LOCATION:George & Kay Berry Library
END:VEVENT
BEGIN:VEVENT
DTSTART;TZID=America/New_York:20260404T080000
DTEND;TZID=America/New_York:20260404T230000
DTSTAMP:20260420T122741
CREATED:20260104T025050Z
LAST-MODIFIED:20260404T154802Z
UID:10003133-1775289600-1775343600@silverbay.org
SUMMARY:Library Open Hours
DESCRIPTION:
URL:https://silverbay.org/event/library-open-hours-116/
LOCATION:George & Kay Berry Library
END:VEVENT
BEGIN:VEVENT
DTSTART;TZID=America/New_York:20260403T080000
DTEND;TZID=America/New_York:20260403T230000
DTSTAMP:20260420T122741
CREATED:20260103T023609Z
LAST-MODIFIED:20260403T153305Z
UID:10003132-1775203200-1775257200@silverbay.org
SUMMARY:Library Open Hours
DESCRIPTION:
URL:https://silverbay.org/event/library-open-hours-115/
LOCATION:George & Kay Berry Library
END:VEVENT
BEGIN:VEVENT
DTSTART;TZID=America/New_York:20260402T080000
DTEND;TZID=America/New_York:20260402T230000
DTSTAMP:20260420T122741
CREATED:20260102T023528Z
LAST-MODIFIED:20260402T151648Z
UID:10003131-1775116800-1775170800@silverbay.org
SUMMARY:Library Open Hours
DESCRIPTION:
URL:https://silverbay.org/event/library-open-hours-114/
LOCATION:George & Kay Berry Library
END:VEVENT
BEGIN:VEVENT
DTSTART;TZID=America/New_York:20260401T080000
DTEND;TZID=America/New_York:20260401T230000
DTSTAMP:20260420T122741
CREATED:20260101T023533Z
LAST-MODIFIED:20260401T151821Z
UID:10003130-1775030400-1775084400@silverbay.org
SUMMARY:Library Open Hours
DESCRIPTION:
URL:https://silverbay.org/event/library-open-hours-113/
LOCATION:George & Kay Berry Library
END:VEVENT
BEGIN:VEVENT
DTSTART;TZID=America/New_York:20260331T080000
DTEND;TZID=America/New_York:20260331T230000
DTSTAMP:20260420T122741
CREATED:20251231T023531Z
LAST-MODIFIED:20260331T150302Z
UID:10003129-1774944000-1774998000@silverbay.org
SUMMARY:Library Open Hours
DESCRIPTION:
URL:https://silverbay.org/event/library-open-hours-112/
LOCATION:George & Kay Berry Library
END:VEVENT
BEGIN:VEVENT
DTSTART;TZID=America/New_York:20260330T080000
DTEND;TZID=America/New_York:20260330T230000
DTSTAMP:20260420T122741
CREATED:20251230T023552Z
LAST-MODIFIED:20260330T144813Z
UID:10003128-1774857600-1774911600@silverbay.org
SUMMARY:Library Open Hours
DESCRIPTION:
URL:https://silverbay.org/event/library-open-hours-111/
LOCATION:George & Kay Berry Library
END:VEVENT
BEGIN:VEVENT
DTSTART;TZID=America/New_York:20260329T080000
DTEND;TZID=America/New_York:20260329T230000
DTSTAMP:20260420T122741
CREATED:20251229T022058Z
LAST-MODIFIED:20260329T143326Z
UID:10003127-1774771200-1774825200@silverbay.org
SUMMARY:Library Open Hours
DESCRIPTION:
URL:https://silverbay.org/event/library-open-hours-110/
LOCATION:George & Kay Berry Library
END:VEVENT
BEGIN:VEVENT
DTSTART;TZID=America/New_York:20260328T080000
DTEND;TZID=America/New_York:20260328T230000
DTSTAMP:20260420T122741
CREATED:20251228T020555Z
LAST-MODIFIED:20260328T142209Z
UID:10003126-1774684800-1774738800@silverbay.org
SUMMARY:Library Open Hours
DESCRIPTION:
URL:https://silverbay.org/event/library-open-hours-109/
LOCATION:George & Kay Berry Library
END:VEVENT
BEGIN:VEVENT
DTSTART;TZID=America/New_York:20260327T080000
DTEND;TZID=America/New_York:20260327T230000
DTSTAMP:20260420T122741
CREATED:20251227T020557Z
LAST-MODIFIED:20260327T050301Z
UID:10003125-1774598400-1774652400@silverbay.org
SUMMARY:Library Open Hours
DESCRIPTION:
URL:https://silverbay.org/event/library-open-hours-108/
LOCATION:George & Kay Berry Library
END:VEVENT
BEGIN:VEVENT
DTSTART;TZID=America/New_York:20260326T080000
DTEND;TZID=America/New_York:20260326T230000
DTSTAMP:20260420T122741
CREATED:20251226T015129Z
LAST-MODIFIED:20260326T044759Z
UID:10003124-1774512000-1774566000@silverbay.org
SUMMARY:Library Open Hours
DESCRIPTION:
URL:https://silverbay.org/event/library-open-hours-107/
LOCATION:George & Kay Berry Library
END:VEVENT
BEGIN:VEVENT
DTSTART;TZID=America/New_York:20260325T080000
DTEND;TZID=America/New_York:20260325T230000
DTSTAMP:20260420T122741
CREATED:20251225T015049Z
LAST-MODIFIED:20260325T043334Z
UID:10003123-1774425600-1774479600@silverbay.org
SUMMARY:Library Open Hours
DESCRIPTION:
URL:https://silverbay.org/event/library-open-hours-106/
LOCATION:George & Kay Berry Library
END:VEVENT
BEGIN:VEVENT
DTSTART;TZID=America/New_York:20260324T080000
DTEND;TZID=America/New_York:20260324T230000
DTSTAMP:20260420T122741
CREATED:20251224T015114Z
LAST-MODIFIED:20260324T041756Z
UID:10003122-1774339200-1774393200@silverbay.org
SUMMARY:Library Open Hours
DESCRIPTION:
URL:https://silverbay.org/event/library-open-hours-105/
LOCATION:George & Kay Berry Library
END:VEVENT
BEGIN:VEVENT
DTSTART;TZID=America/New_York:20260323T080000
DTEND;TZID=America/New_York:20260323T230000
DTSTAMP:20260420T122741
CREATED:20251223T015048Z
LAST-MODIFIED:20260323T040331Z
UID:10003121-1774252800-1774306800@silverbay.org
SUMMARY:Library Open Hours
DESCRIPTION:
URL:https://silverbay.org/event/library-open-hours-104/
LOCATION:George & Kay Berry Library
END:VEVENT
BEGIN:VEVENT
DTSTART;TZID=America/New_York:20260322T080000
DTEND;TZID=America/New_York:20260322T230000
DTSTAMP:20260420T122741
CREATED:20251222T015049Z
LAST-MODIFIED:20260322T034809Z
UID:10003120-1774166400-1774220400@silverbay.org
SUMMARY:Library Open Hours
DESCRIPTION:
URL:https://silverbay.org/event/library-open-hours-103/
LOCATION:George & Kay Berry Library
END:VEVENT
BEGIN:VEVENT
DTSTART;TZID=America/New_York:20260321T080000
DTEND;TZID=America/New_York:20260321T230000
DTSTAMP:20260420T122741
CREATED:20251221T013545Z
LAST-MODIFIED:20260321T033329Z
UID:10003119-1774080000-1774134000@silverbay.org
SUMMARY:Library Open Hours
DESCRIPTION:
URL:https://silverbay.org/event/library-open-hours-102/
LOCATION:George & Kay Berry Library
END:VEVENT
END:VCALENDAR