BEGIN:VCALENDAR
VERSION:2.0
PRODID:-//Silver Bay YMCA - ECPv6.15.17//NONSGML v1.0//EN
CALSCALE:GREGORIAN
METHOD:PUBLISH
X-ORIGINAL-URL:https://silverbay.org
X-WR-CALDESC:Events for Silver Bay YMCA
REFRESH-INTERVAL;VALUE=DURATION:PT1H
X-Robots-Tag:noindex
X-PUBLISHED-TTL:PT1H
BEGIN:VTIMEZONE
TZID:America/New_York
BEGIN:DAYLIGHT
TZOFFSETFROM:-0500
TZOFFSETTO:-0400
TZNAME:EDT
DTSTART:20240310T070000
END:DAYLIGHT
BEGIN:STANDARD
TZOFFSETFROM:-0400
TZOFFSETTO:-0500
TZNAME:EST
DTSTART:20241103T060000
END:STANDARD
BEGIN:DAYLIGHT
TZOFFSETFROM:-0500
TZOFFSETTO:-0400
TZNAME:EDT
DTSTART:20250309T070000
END:DAYLIGHT
BEGIN:STANDARD
TZOFFSETFROM:-0400
TZOFFSETTO:-0500
TZNAME:EST
DTSTART:20251102T060000
END:STANDARD
BEGIN:DAYLIGHT
TZOFFSETFROM:-0500
TZOFFSETTO:-0400
TZNAME:EDT
DTSTART:20260308T070000
END:DAYLIGHT
BEGIN:STANDARD
TZOFFSETFROM:-0400
TZOFFSETTO:-0500
TZNAME:EST
DTSTART:20261101T060000
END:STANDARD
END:VTIMEZONE
BEGIN:VEVENT
DTSTART;TZID=America/New_York:20251116T130000
DTEND;TZID=America/New_York:20251116T170000
DTSTAMP:20260422T093722
CREATED:20251103T215751Z
LAST-MODIFIED:20251115T201820Z
UID:10002881-1763298000-1763312400@silverbay.org
SUMMARY:Squire Studio Open Hours
DESCRIPTION:
URL:https://silverbay.org/event/squire-studio-open-hours-4/
LOCATION:Squire Art Studio
END:VEVENT
BEGIN:VEVENT
DTSTART;TZID=America/New_York:20251114T150000
DTEND;TZID=America/New_York:20251114T170000
DTSTAMP:20260422T093722
CREATED:20251103T215736Z
LAST-MODIFIED:20251114T200354Z
UID:10002869-1763132400-1763139600@silverbay.org
SUMMARY:Squire Studio Open Hours
DESCRIPTION:
URL:https://silverbay.org/event/squire-studio-open-hours-3/
LOCATION:Squire Art Studio
END:VEVENT
BEGIN:VEVENT
DTSTART;TZID=America/New_York:20251114T093000
DTEND;TZID=America/New_York:20251114T120000
DTSTAMP:20260422T093722
CREATED:20251103T215735Z
LAST-MODIFIED:20251111T194951Z
UID:10002866-1763112600-1763121600@silverbay.org
SUMMARY:Squire Studio Open Hours
DESCRIPTION:
URL:https://silverbay.org/event/squire-studio-open-hours-2/
LOCATION:Squire Art Studio
END:VEVENT
BEGIN:VEVENT
DTSTART;TZID=America/New_York:20251113T093000
DTEND;TZID=America/New_York:20251113T120000
DTSTAMP:20260422T093722
CREATED:20251103T215720Z
LAST-MODIFIED:20251111T194950Z
UID:10002860-1763026200-1763035200@silverbay.org
SUMMARY:Squire Studio Open Hours
DESCRIPTION:
URL:https://silverbay.org/event/squire-studio-open-hours/
LOCATION:Squire Art Studio
END:VEVENT
END:VCALENDAR