BEGIN:VCALENDAR
VERSION:2.0
PRODID:-//Silver Bay YMCA - ECPv6.15.17//NONSGML v1.0//EN
CALSCALE:GREGORIAN
METHOD:PUBLISH
X-WR-CALNAME:Silver Bay YMCA
X-ORIGINAL-URL:https://silverbay.org
X-WR-CALDESC:Events for Silver Bay YMCA
REFRESH-INTERVAL;VALUE=DURATION:PT1H
X-Robots-Tag:noindex
X-PUBLISHED-TTL:PT1H
BEGIN:VTIMEZONE
TZID:America/New_York
BEGIN:DAYLIGHT
TZOFFSETFROM:-0500
TZOFFSETTO:-0400
TZNAME:EDT
DTSTART:20250309T070000
END:DAYLIGHT
BEGIN:STANDARD
TZOFFSETFROM:-0400
TZOFFSETTO:-0500
TZNAME:EST
DTSTART:20251102T060000
END:STANDARD
BEGIN:DAYLIGHT
TZOFFSETFROM:-0500
TZOFFSETTO:-0400
TZNAME:EDT
DTSTART:20260308T070000
END:DAYLIGHT
BEGIN:STANDARD
TZOFFSETFROM:-0400
TZOFFSETTO:-0500
TZNAME:EST
DTSTART:20261101T060000
END:STANDARD
BEGIN:DAYLIGHT
TZOFFSETFROM:-0500
TZOFFSETTO:-0400
TZNAME:EDT
DTSTART:20270314T070000
END:DAYLIGHT
BEGIN:STANDARD
TZOFFSETFROM:-0400
TZOFFSETTO:-0500
TZNAME:EST
DTSTART:20271107T060000
END:STANDARD
END:VTIMEZONE
BEGIN:VEVENT
DTSTART;TZID=America/New_York:20260425T060000
DTEND;TZID=America/New_York:20260425T210000
DTSTAMP:20260425T110810
CREATED:20260125T171149Z
LAST-MODIFIED:20260424T143319Z
UID:10003500-1777096800-1777150800@silverbay.org
SUMMARY:Fitness Center Open Hours
DESCRIPTION:Take advantage of a range of workout equipment\, including free weights\, treadmills\, cable machines\, and more. All available in Fisher Gym. Additionally\, a smaller fitness area is conveniently located on the first floor of the William Boyd Center.
URL:https://silverbay.org/event/fitness-center-open-hours-110/
LOCATION:Fisher Gym\, William Boyd Fitness Center
END:VEVENT
BEGIN:VEVENT
DTSTART;TZID=America/New_York:20260425T080000
DTEND;TZID=America/New_York:20260425T230000
DTSTAMP:20260425T110810
CREATED:20260125T171149Z
LAST-MODIFIED:20260424T143319Z
UID:10003499-1777104000-1777158000@silverbay.org
SUMMARY:Library Open Hours
DESCRIPTION:
URL:https://silverbay.org/event/library-open-hours-174/
LOCATION:George & Kay Berry Library
END:VEVENT
BEGIN:VEVENT
DTSTART;TZID=America/New_York:20260425T100000
DTEND;TZID=America/New_York:20260425T120000
DTSTAMP:20260425T110810
CREATED:20260329T143621Z
LAST-MODIFIED:20260424T143319Z
UID:10003988-1777111200-1777118400@silverbay.org
SUMMARY:Squire Studio Open Hours
DESCRIPTION:Creativity thrives year-round at the Squire Studio at Silver Bay! Whether it’s pottery\, stained-glass\, or crafting\, this vibrant space invites artists of all ages and skill levels to explore their imagination in a welcoming\, hands-on environment.
URL:https://silverbay.org/event/squire-studio-open-hours-52/
LOCATION:Squire Studio Fiber Arts Room
END:VEVENT
BEGIN:VEVENT
DTSTART;TZID=America/New_York:20260425T100000
DTEND;TZID=America/New_York:20260425T120000
DTSTAMP:20260425T110810
CREATED:20260331T150610Z
LAST-MODIFIED:20260424T143319Z
UID:10004037-1777111200-1777118400@silverbay.org
SUMMARY:Open Round Robin Pickleball
DESCRIPTION:
URL:https://silverbay.org/event/open-round-robin-pickleball-113/
LOCATION:East Gymnasium
END:VEVENT
END:VCALENDAR